BEGIN:VCALENDAR
VERSION:2.0
PRODID:-//Etsem Danse - ECPv6.15.13//NONSGML v1.0//EN
CALSCALE:GREGORIAN
METHOD:PUBLISH
X-WR-CALNAME:Etsem Danse
X-ORIGINAL-URL:https://etsemdanse.fr
X-WR-CALDESC:Évènements pour Etsem Danse
REFRESH-INTERVAL;VALUE=DURATION:PT1H
X-Robots-Tag:noindex
X-PUBLISHED-TTL:PT1H
BEGIN:VTIMEZONE
TZID:Europe/Paris
BEGIN:DAYLIGHT
TZOFFSETFROM:+0100
TZOFFSETTO:+0200
TZNAME:CEST
DTSTART:20240331T010000
END:DAYLIGHT
BEGIN:STANDARD
TZOFFSETFROM:+0200
TZOFFSETTO:+0100
TZNAME:CET
DTSTART:20241027T010000
END:STANDARD
BEGIN:DAYLIGHT
TZOFFSETFROM:+0100
TZOFFSETTO:+0200
TZNAME:CEST
DTSTART:20250330T010000
END:DAYLIGHT
BEGIN:STANDARD
TZOFFSETFROM:+0200
TZOFFSETTO:+0100
TZNAME:CET
DTSTART:20251026T010000
END:STANDARD
BEGIN:DAYLIGHT
TZOFFSETFROM:+0100
TZOFFSETTO:+0200
TZNAME:CEST
DTSTART:20260329T010000
END:DAYLIGHT
BEGIN:STANDARD
TZOFFSETFROM:+0200
TZOFFSETTO:+0100
TZNAME:CET
DTSTART:20261025T010000
END:STANDARD
END:VTIMEZONE
BEGIN:VEVENT
DTSTART;TZID=Europe/Paris:20250207T180000
DTEND;TZID=Europe/Paris:20250208T170000
DTSTAMP:20260421T113638
CREATED:20250102T112929Z
LAST-MODIFIED:20250109T081615Z
UID:2760-1738951200-1739034000@etsemdanse.fr
SUMMARY:Yi Jing avec sabine Dugarry et travail corporel avec Marie D Tronchon
DESCRIPTION:
URL:https://etsemdanse.fr/event/yi-jing-avec-sabine-dugarry-et-travail-corporel-avec-marie-d-tronchon/
LOCATION:Studio Les Chapelles\, Lieu-dit Les Chapelles\, Saint-Astier\, 24110\, France
CATEGORIES:Marie-Dominique Trochon,Sabine Dugarry
END:VEVENT
END:VCALENDAR