BEGIN:VCALENDAR
VERSION:2.0
PRODID:-//Etsem Danse - ECPv6.15.13//NONSGML v1.0//EN
CALSCALE:GREGORIAN
METHOD:PUBLISH
X-ORIGINAL-URL:https://etsemdanse.fr
X-WR-CALDESC:Évènements pour Etsem Danse
REFRESH-INTERVAL;VALUE=DURATION:PT1H
X-Robots-Tag:noindex
X-PUBLISHED-TTL:PT1H
BEGIN:VTIMEZONE
TZID:Europe/Paris
BEGIN:DAYLIGHT
TZOFFSETFROM:+0100
TZOFFSETTO:+0200
TZNAME:CEST
DTSTART:20240331T010000
END:DAYLIGHT
BEGIN:STANDARD
TZOFFSETFROM:+0200
TZOFFSETTO:+0100
TZNAME:CET
DTSTART:20241027T010000
END:STANDARD
BEGIN:DAYLIGHT
TZOFFSETFROM:+0100
TZOFFSETTO:+0200
TZNAME:CEST
DTSTART:20250330T010000
END:DAYLIGHT
BEGIN:STANDARD
TZOFFSETFROM:+0200
TZOFFSETTO:+0100
TZNAME:CET
DTSTART:20251026T010000
END:STANDARD
BEGIN:DAYLIGHT
TZOFFSETFROM:+0100
TZOFFSETTO:+0200
TZNAME:CEST
DTSTART:20260329T010000
END:DAYLIGHT
BEGIN:STANDARD
TZOFFSETFROM:+0200
TZOFFSETTO:+0100
TZNAME:CET
DTSTART:20261025T010000
END:STANDARD
END:VTIMEZONE
BEGIN:VEVENT
DTSTART;TZID=Europe/Paris:20250124T190000
DTEND;TZID=Europe/Paris:20250126T170000
DTSTAMP:20260423T123610
CREATED:20241108T100042Z
LAST-MODIFIED:20250107T055503Z
UID:2440-1737745200-1737910800@etsemdanse.fr
SUMMARY:TOUCHER & ÊTRE EN MOUVEMENT avec le Body mind centering - Caroline Arragain
DESCRIPTION:TOUCHER & ÊTRE EN MOUVEMENT\navec le Body-Mind Centering®\ndu 24 au 26 Janvier à St Astier (24)\nLes sens du toucher et du mouvement se développent ensemble\, in utero. Ce sont les premiers sens à se développer. C’est pourquoi on les appelle en BMC® les sens « premiers »\, aussi parce qu’ils permettent de se sentir soi-même. Le sens du toucher\, à travers la double couche de la peau\, nous met également en lien avec ce qui est à l’extérieur de nous\, l’air\, la terre\, une autre personne.\nAu cours de ce stage de 2 jours\, nous explorerons ces deux sens du toucher et du mouvement séparément et en relation l’un avec l’autre.\nNous voyagerons sur et sous la peau\, nous traverserons les couches\, nous apprendrons à toucher et à être touché.e\, à nous laisser guider par un mouvement venu de l’intérieur\, et à entrer en relation avec nous-même\, et avec l’autre. Nous tisserons des danses sensibles\, et improvisées. Notre rechercher sera guidée par la curiosité et la recherche d’une certaine humanité. \nCe stage est ouvert à toutes et tous. Bienvenue ! \nOÙ ? \nLes Chapelles\n608 chemin des Chapelles\n24110 St-Astier \nQUAND ? \ndu 24 au 26 Janvier\nvendredi 24 Janvier : Arrivée à 18h et installation / Temps de pratique de 19h à 20h30 / Dîner en commun\nsamedi 25 Janvier : 7h de pratique\ndimanche 26 Janvier : 6h de pratique\, fin à 17h \nTARIF\n160€ + 5€ d’adhésion à l’association Somalila\nLe tarif inclut l’hébergement mais pas les repas.\nSi vous préférez ne pas dormir sur place\, une réduction de tarif ne sera malheureusement pas possible. \nHÉBERGEMENT ET REPAS\nVous serez hébergé.e sur place\, en chambres de 2 ou 3.\nAuberge espagnole pour les repas. Possibilité de cuisiner sur place. \nINSCRIPTION & INFORMATIONS\ncaroline.arragain@gmail.com\n06 18 81 72 21 \nAcompte de 80€ demandé au moment de l’inscription\, par chèque ou via HelloAsso.
URL:https://etsemdanse.fr/event/toucher-etre-en-mouvement-avec-le-body-mind-centering-caroline-arragain/
LOCATION:Studio Les Chapelles\, Lieu-dit Les Chapelles\, Saint-Astier\, 24110\, France
CATEGORIES:Caroline Arragain,Stage
ATTACH;FMTTYPE=image/jpeg:https://etsemdanse.fr/wp-content/uploads/2024/11/UNADJUSTEDNONRAW_thumb_47c6.jpg
END:VEVENT
BEGIN:VEVENT
DTSTART;TZID=Europe/Paris:20250131T193000
DTEND;TZID=Europe/Paris:20250131T220000
DTSTAMP:20260423T123610
CREATED:20250114T202919Z
LAST-MODIFIED:20250115T134838Z
UID:2902-1738351800-1738360800@etsemdanse.fr
SUMMARY:Spectacle -Le chant des baleines stellaires -Ingrid Bled
DESCRIPTION:Le chant des baleines stellaires –\nUn concert pour vibrer à l’unisson du chant des baleines\nvendredi 31 Janvier 2025 à 19H30\naux Chapelles\n à Saint Astier\n \n\nLe chant des baleines stellaires est un solo nyckelharpa (vièle à archet suédoise)\, contrebasse et live looping; une plongée bleue dans les profondeurs de l’Univers\, à la rencontre des baleines stellaires…\n\n\nDans cette musique\, Ingrid Obled utilise instruments traditionnels et outils numériques de manière parfois conventionnelle\, parfois détournée pour amener d’autres sons qui viennent d’un ailleurs… Elle crée avec ses instruments des chants de baleines qui s’entremêlent à son art musical. \nLe chant des baleines stellaires est une proposition unique et singulière\, un hommage à ces créatures majestueuses. Se relier aux baleines\, c’est se relier à soi\, en profondeur et se connecter à quelque chose de plus vaste. Bien plus qu’un simple concert\, Ingrid Obled nous fait vivre une expérience hors du temps. \n\n\nsuivi  à 20h30 de la projection du  film\n« les gardiennes de la planète »\n \n\n\naprès le film vers 22h partage un temps convivial avec Ingrid autour d’un verre.\n\n\ntarif : « au chapeau »…=> à partir de 12 euros \n\n\n(enfants à partir de 12 ans : 5 euros)\n\n\nRéservation conseillée au 05 53 05 80 21 (laisser un message vocal avec le nombre de places réservées et votre Nom et prénom et téléphone…merci)\nVoici un court extrait du concert le chant des baleines stellaires à la Cathédrale de Genève : https://youtu.be/H0W3FHcXxo8?si=9_8_85btQA3YZ2RD\n\nPlus d’informations sur l’artiste www.ingridobled.com
URL:https://etsemdanse.fr/event/2902/
LOCATION:Studio Les Chapelles\, Lieu-dit Les Chapelles\, Saint-Astier\, 24110\, France
CATEGORIES:Spectacle
ATTACH;FMTTYPE=image/png:https://etsemdanse.fr/wp-content/uploads/2025/01/ingrid-obled-photo.png
ORGANIZER;CN="Marie-Dominique Tronchon":MAILTO:mdtronchon@etsemdanse.fr
END:VEVENT
END:VCALENDAR