BEGIN:VCALENDAR
VERSION:2.0
PRODID:-//Etsem Danse - ECPv6.15.13//NONSGML v1.0//EN
CALSCALE:GREGORIAN
METHOD:PUBLISH
X-ORIGINAL-URL:https://etsemdanse.fr
X-WR-CALDESC:Évènements pour Etsem Danse
REFRESH-INTERVAL;VALUE=DURATION:PT1H
X-Robots-Tag:noindex
X-PUBLISHED-TTL:PT1H
BEGIN:VTIMEZONE
TZID:Europe/Paris
BEGIN:DAYLIGHT
TZOFFSETFROM:+0100
TZOFFSETTO:+0200
TZNAME:CEST
DTSTART:20230326T010000
END:DAYLIGHT
BEGIN:STANDARD
TZOFFSETFROM:+0200
TZOFFSETTO:+0100
TZNAME:CET
DTSTART:20231029T010000
END:STANDARD
BEGIN:DAYLIGHT
TZOFFSETFROM:+0100
TZOFFSETTO:+0200
TZNAME:CEST
DTSTART:20240331T010000
END:DAYLIGHT
BEGIN:STANDARD
TZOFFSETFROM:+0200
TZOFFSETTO:+0100
TZNAME:CET
DTSTART:20241027T010000
END:STANDARD
BEGIN:DAYLIGHT
TZOFFSETFROM:+0100
TZOFFSETTO:+0200
TZNAME:CEST
DTSTART:20250330T010000
END:DAYLIGHT
BEGIN:STANDARD
TZOFFSETFROM:+0200
TZOFFSETTO:+0100
TZNAME:CET
DTSTART:20251026T010000
END:STANDARD
END:VTIMEZONE
BEGIN:VEVENT
DTSTART;TZID=Europe/Paris:20240816T180000
DTEND;TZID=Europe/Paris:20240817T170000
DTSTAMP:20260423T220605
CREATED:20240802T153509Z
LAST-MODIFIED:20240802T153953Z
UID:2042-1723831200-1723914000@etsemdanse.fr
SUMMARY:atelier découverte du Yi Jing et conscience corporelle
DESCRIPTION:
URL:https://etsemdanse.fr/event/atelier-decouverte-du-yi-jing-et-conscience-corporelle/
LOCATION:Studio Les Chapelles\, Lieu-dit Les Chapelles\, Saint-Astier\, 24110\, France
CATEGORIES:Stage
END:VEVENT
END:VCALENDAR