BEGIN:VCALENDAR
VERSION:2.0
PRODID:-//Etsem Danse - ECPv6.15.13//NONSGML v1.0//EN
CALSCALE:GREGORIAN
METHOD:PUBLISH
X-WR-CALNAME:Etsem Danse
X-ORIGINAL-URL:https://etsemdanse.fr
X-WR-CALDESC:Évènements pour Etsem Danse
REFRESH-INTERVAL;VALUE=DURATION:PT1H
X-Robots-Tag:noindex
X-PUBLISHED-TTL:PT1H
BEGIN:VTIMEZONE
TZID:Europe/Paris
BEGIN:DAYLIGHT
TZOFFSETFROM:+0100
TZOFFSETTO:+0200
TZNAME:CEST
DTSTART:20180325T010000
END:DAYLIGHT
BEGIN:STANDARD
TZOFFSETFROM:+0200
TZOFFSETTO:+0100
TZNAME:CET
DTSTART:20181028T010000
END:STANDARD
BEGIN:DAYLIGHT
TZOFFSETFROM:+0100
TZOFFSETTO:+0200
TZNAME:CEST
DTSTART:20190331T010000
END:DAYLIGHT
BEGIN:STANDARD
TZOFFSETFROM:+0200
TZOFFSETTO:+0100
TZNAME:CET
DTSTART:20191027T010000
END:STANDARD
BEGIN:DAYLIGHT
TZOFFSETFROM:+0100
TZOFFSETTO:+0200
TZNAME:CEST
DTSTART:20200329T010000
END:DAYLIGHT
BEGIN:STANDARD
TZOFFSETFROM:+0200
TZOFFSETTO:+0100
TZNAME:CET
DTSTART:20201025T010000
END:STANDARD
END:VTIMEZONE
BEGIN:VEVENT
DTSTART;TZID=Europe/Paris:20190305T200000
DTEND;TZID=Europe/Paris:20190305T220000
DTSTAMP:20260425T052304
CREATED:20170830T111550Z
LAST-MODIFIED:20190115T113744Z
UID:226-1551816000-1551823200@etsemdanse.fr
SUMMARY:Atelier danse improvisation // Tous les mercredis
DESCRIPTION:45€ par mois ou 120€ le trimestre (300€ l’année) / Tarif réduit 90€ le trimestre sous conditions \n+ 15€ d’adhésion à l’association ETSEM
URL:https://etsemdanse.fr/event/atelier-danse-improvisation-tous-les-mercredis-9/
LOCATION:Studio Les Chapelles\, Lieu-dit Les Chapelles\, Saint-Astier\, 24110\, France
CATEGORIES:Atelier
ATTACH;FMTTYPE=image/jpeg:https://etsemdanse.fr/wp-content/uploads/2017/08/pieds.jpg
ORGANIZER;CN="Marie-Dominique Tronchon":MAILTO:mdtronchon@etsemdanse.fr
END:VEVENT
BEGIN:VEVENT
DTSTART;TZID=Europe/Paris:20190319T200000
DTEND;TZID=Europe/Paris:20190319T220000
DTSTAMP:20260425T052304
CREATED:20170830T110532Z
LAST-MODIFIED:20190115T113935Z
UID:212-1553025600-1553032800@etsemdanse.fr
SUMMARY:Atelier danse improvisation // Tous les mercredis
DESCRIPTION:45€ par mois ou 120€ le trimestre (300€ l’année) / Tarif réduit 90€ le trimestre sous conditions \n+ 15€ d’adhésion à l’association ETSEM
URL:https://etsemdanse.fr/event/atelier-danse-improvisation-tous-les-mercredis-2/
LOCATION:Studio Les Chapelles\, Lieu-dit Les Chapelles\, Saint-Astier\, 24110\, France
CATEGORIES:Atelier
ATTACH;FMTTYPE=image/jpeg:https://etsemdanse.fr/wp-content/uploads/2017/01/IMG_1243-1.jpg
ORGANIZER;CN="Marie-Dominique Tronchon":MAILTO:mdtronchon@etsemdanse.fr
END:VEVENT
END:VCALENDAR